BEGIN:VCALENDAR
VERSION:2.0
PRODID:-//Thief River Golf Club - ECPv6.15.18//NONSGML v1.0//EN
CALSCALE:GREGORIAN
METHOD:PUBLISH
X-WR-CALNAME:Thief River Golf Club
X-ORIGINAL-URL:https://www.thiefrivergolfclub.com
X-WR-CALDESC:Events for Thief River Golf Club
REFRESH-INTERVAL;VALUE=DURATION:PT1H
X-Robots-Tag:noindex
X-PUBLISHED-TTL:PT1H
BEGIN:VTIMEZONE
TZID:America/Chicago
BEGIN:DAYLIGHT
TZOFFSETFROM:-0600
TZOFFSETTO:-0500
TZNAME:CDT
DTSTART:20230312T080000
END:DAYLIGHT
BEGIN:STANDARD
TZOFFSETFROM:-0500
TZOFFSETTO:-0600
TZNAME:CST
DTSTART:20231105T070000
END:STANDARD
BEGIN:DAYLIGHT
TZOFFSETFROM:-0600
TZOFFSETTO:-0500
TZNAME:CDT
DTSTART:20240310T080000
END:DAYLIGHT
BEGIN:STANDARD
TZOFFSETFROM:-0500
TZOFFSETTO:-0600
TZNAME:CST
DTSTART:20241103T070000
END:STANDARD
BEGIN:DAYLIGHT
TZOFFSETFROM:-0600
TZOFFSETTO:-0500
TZNAME:CDT
DTSTART:20250309T080000
END:DAYLIGHT
BEGIN:STANDARD
TZOFFSETFROM:-0500
TZOFFSETTO:-0600
TZNAME:CST
DTSTART:20251102T070000
END:STANDARD
BEGIN:DAYLIGHT
TZOFFSETFROM:-0600
TZOFFSETTO:-0500
TZNAME:CDT
DTSTART:20260308T080000
END:DAYLIGHT
BEGIN:STANDARD
TZOFFSETFROM:-0500
TZOFFSETTO:-0600
TZNAME:CST
DTSTART:20261101T070000
END:STANDARD
END:VTIMEZONE
BEGIN:VEVENT
DTSTART;TZID=America/Chicago:20250809T100000
DTEND;TZID=America/Chicago:20250809T170000
DTSTAMP:20260419T222439
CREATED:20250806T212251Z
LAST-MODIFIED:20250806T212251Z
UID:10000019-1754733600-1754758800@www.thiefrivergolfclub.com
SUMMARY:Eagles Tournament (all 18 holes)
DESCRIPTION:4 person team – sign up at the TRGC or ProShop \n10 AM Shotgun start \n 
URL:https://www.thiefrivergolfclub.com/event/eagles-tournament-all-18-holes/
END:VEVENT
BEGIN:VEVENT
DTSTART;TZID=America/Chicago:20250808T073000
DTEND;TZID=America/Chicago:20250808T170000
DTSTAMP:20260419T222439
CREATED:20250806T212118Z
LAST-MODIFIED:20250806T212118Z
UID:10000018-1754638200-1754672400@www.thiefrivergolfclub.com
SUMMARY:Dave Johnson Memorial Hockey Tournament (all 18 holes)
DESCRIPTION:Youth Tournament tees off at 7:30 AM \nHigh School age and adult tournament tees off at 10:00 AM. \nSign up taking place morning of at Thief River Golf Club.
URL:https://www.thiefrivergolfclub.com/event/dave-johnson-memorial-hockey-tournament-all-18-holes/
END:VEVENT
BEGIN:VEVENT
DTSTART;TZID=America/Chicago:20250807T173000
DTEND;TZID=America/Chicago:20250807T200000
DTSTAMP:20260419T222439
CREATED:20250806T211304Z
LAST-MODIFIED:20250806T211304Z
UID:10000017-1754587800-1754596800@www.thiefrivergolfclub.com
SUMMARY:Falls Under 40 vs. Rotary (Back 9)
DESCRIPTION:Back 9 closed – front 9 open play
URL:https://www.thiefrivergolfclub.com/event/falls-under-40-vs-rotary-back-9/
END:VEVENT
BEGIN:VEVENT
DTSTART;TZID=America/Chicago:20250806T080000
DTEND;TZID=America/Chicago:20250806T170000
DTSTAMP:20260419T222439
CREATED:20250807T014011Z
LAST-MODIFIED:20250807T014011Z
UID:10000026-1754467200-1754499600@www.thiefrivergolfclub.com
SUMMARY:Memorial Tournament 2025
DESCRIPTION:The poster has the original date\, however the other information is the same. \nA day to remember our members that passed away in the past offseason and season. \n  \n \n 
URL:https://www.thiefrivergolfclub.com/event/memorial-tournament-2025/
END:VEVENT
BEGIN:VEVENT
DTSTART;TZID=America/Chicago:20240914T100000
DTEND;TZID=America/Chicago:20240914T170000
DTSTAMP:20260419T222439
CREATED:20240702T004707Z
LAST-MODIFIED:20240719T150507Z
UID:10000014-1726308000-1726333200@www.thiefrivergolfclub.com
SUMMARY:St. Bernards Scramble
DESCRIPTION:Find info for this great event at WWW.STBERNARDSCC.ORG/GOLF \n 
URL:https://www.thiefrivergolfclub.com/event/st-bernards-scramble/
END:VEVENT
BEGIN:VEVENT
DTSTART;TZID=America/Chicago:20240906T100000
DTEND;TZID=America/Chicago:20240907T183000
DTSTAMP:20260419T222439
CREATED:20240719T150612Z
LAST-MODIFIED:20240719T150612Z
UID:10000016-1725616800-1725733800@www.thiefrivergolfclub.com
SUMMARY:TRGC Cash Cup
DESCRIPTION:
URL:https://www.thiefrivergolfclub.com/event/trgc-cash-cup/
END:VEVENT
BEGIN:VEVENT
DTSTART;VALUE=DATE:20240823
DTEND;VALUE=DATE:20240825
DTSTAMP:20260419T222439
CREATED:20240422T215507Z
LAST-MODIFIED:20240422T215507Z
UID:10000010-1724371200-1724543999@www.thiefrivergolfclub.com
SUMMARY:Club Championships
DESCRIPTION:
URL:https://www.thiefrivergolfclub.com/event/club-championships/
END:VEVENT
BEGIN:VEVENT
DTSTART;TZID=America/Chicago:20240816T090000
DTEND;TZID=America/Chicago:20240816T170000
DTSTAMP:20260419T222439
CREATED:20240422T215437Z
LAST-MODIFIED:20240814T014954Z
UID:10000009-1723798800-1723827600@www.thiefrivergolfclub.com
SUMMARY:Wrestling Golf Tournament
DESCRIPTION:
URL:https://www.thiefrivergolfclub.com/event/wrestling-golf-tournament/
END:VEVENT
BEGIN:VEVENT
DTSTART;TZID=America/Chicago:20240810T090000
DTEND;TZID=America/Chicago:20240810T170000
DTSTAMP:20260419T222439
CREATED:20240422T215414Z
LAST-MODIFIED:20240422T215414Z
UID:10000008-1723280400-1723309200@www.thiefrivergolfclub.com
SUMMARY:Eagles Golf Tournament
DESCRIPTION:
URL:https://www.thiefrivergolfclub.com/event/eagles-golf-tournament/
END:VEVENT
BEGIN:VEVENT
DTSTART;TZID=America/Chicago:20240809T090000
DTEND;TZID=America/Chicago:20240809T180000
DTSTAMP:20260419T222439
CREATED:20240422T215354Z
LAST-MODIFIED:20240422T215354Z
UID:10000007-1723194000-1723226400@www.thiefrivergolfclub.com
SUMMARY:Hockey Golf Tournament
DESCRIPTION:
URL:https://www.thiefrivergolfclub.com/event/hockey-golf-tournament/
END:VEVENT
BEGIN:VEVENT
DTSTART;TZID=America/Chicago:20240803T060000
DTEND;TZID=America/Chicago:20240803T193000
DTSTAMP:20260419T222439
CREATED:20240422T215333Z
LAST-MODIFIED:20240422T215333Z
UID:10000006-1722664800-1722713400@www.thiefrivergolfclub.com
SUMMARY:Digi-Key Golf Outing
DESCRIPTION:
URL:https://www.thiefrivergolfclub.com/event/digi-key-golf-outing/
END:VEVENT
BEGIN:VEVENT
DTSTART;TZID=America/Chicago:20240802T080000
DTEND;TZID=America/Chicago:20240802T170000
DTSTAMP:20260419T222439
CREATED:20240702T004242Z
LAST-MODIFIED:20240702T004242Z
UID:10000013-1722585600-1722618000@www.thiefrivergolfclub.com
SUMMARY:Arctic Cat Outing
DESCRIPTION:
URL:https://www.thiefrivergolfclub.com/event/arctic-cat-outing/
END:VEVENT
BEGIN:VEVENT
DTSTART;TZID=America/Chicago:20240722T090000
DTEND;TZID=America/Chicago:20240722T180000
DTSTAMP:20260419T222439
CREATED:20240422T215252Z
LAST-MODIFIED:20240422T215252Z
UID:10000005-1721638800-1721671200@www.thiefrivergolfclub.com
SUMMARY:Education Foundation Golf Tournament
DESCRIPTION:
URL:https://www.thiefrivergolfclub.com/event/education-foundation-golf-tournament/
END:VEVENT
BEGIN:VEVENT
DTSTART;TZID=America/Chicago:20240629T100000
DTEND;TZID=America/Chicago:20240629T180000
DTSTAMP:20260419T222439
CREATED:20240422T215212Z
LAST-MODIFIED:20240422T215212Z
UID:10000004-1719655200-1719684000@www.thiefrivergolfclub.com
SUMMARY:Sjorbergs Classic Golf Tournament
DESCRIPTION:
URL:https://www.thiefrivergolfclub.com/event/sjorbergs-classic-golf-tournament/
END:VEVENT
BEGIN:VEVENT
DTSTART;TZID=America/Chicago:20240621T090000
DTEND;TZID=America/Chicago:20240621T180000
DTSTAMP:20260419T222439
CREATED:20240422T215142Z
LAST-MODIFIED:20240422T215142Z
UID:10000003-1718960400-1718992800@www.thiefrivergolfclub.com
SUMMARY:Sports Boosters Golf Tournament
DESCRIPTION:
URL:https://www.thiefrivergolfclub.com/event/sports-boosters-golf-tournament/
END:VEVENT
BEGIN:VEVENT
DTSTART;TZID=America/Chicago:20240518T100000
DTEND;TZID=America/Chicago:20240518T180000
DTSTAMP:20260419T222439
CREATED:20240422T215111Z
LAST-MODIFIED:20240422T215111Z
UID:10000002-1716026400-1716055200@www.thiefrivergolfclub.com
SUMMARY:Memorial Golf Tournament
DESCRIPTION:
URL:https://www.thiefrivergolfclub.com/event/memorial-golf-tournament/
END:VEVENT
BEGIN:VEVENT
DTSTART;TZID=America/Chicago:20240503T180000
DTEND;TZID=America/Chicago:20240503T230000
DTSTAMP:20260419T222439
CREATED:20240422T235738Z
LAST-MODIFIED:20240423T000103Z
UID:10000012-1714759200-1714777200@www.thiefrivergolfclub.com
SUMMARY:Glowball Night!!!
DESCRIPTION:Glowball Night \n3 Divisions \nSocial @ 19th Hole – 6:00 PM \nDinner – 7:00 pm \nPrizes – 7:30 pm \nGolf @ dusk
URL:https://www.thiefrivergolfclub.com/event/445/
END:VEVENT
BEGIN:VEVENT
DTSTART;TZID=America/Chicago:20240412T100000
DTEND;TZID=America/Chicago:20240412T190000
DTSTAMP:20260419T222439
CREATED:20240422T215016Z
LAST-MODIFIED:20240422T215016Z
UID:10000001-1712916000-1712948400@www.thiefrivergolfclub.com
SUMMARY:Course opening for the year!  All 18 holes and carts allowed!
DESCRIPTION:
URL:https://www.thiefrivergolfclub.com/event/course-opening-for-the-year-all-18-holes-and-carts-allowed/
END:VEVENT
END:VCALENDAR